BEGIN:VCALENDAR
VERSION:2.0
PRODID:-//eventon.com NONSGML v1.0//EN
BEGIN:VEVENT
UID:69ed8e3598c50
DTSTAMP:20260426T060157
DTSTART:20221019T190000Z
DTEND:20221019T215000Z
LOCATION:
SUMMARY:Quello che non si vede
DESCRIPTION: Quello che non si vede
END:VEVENT
END:VCALENDAR